BEGIN:VCALENDAR
CALSCALE:GREGORIAN
VERSION:2.0
METHOD:PUBLISH 
X-WR-CALNAME:
BEGIN:VEVENT
DTSTART;TZID=Europe/Paris:20260610T180000
DTEND;TZID=Europe/Paris:20260610T190000
SUMMARY:Sp'Hinx invite Annie Quillon
CATEGORIE:Littérature
GEO:43.70197050000000;-0.92798820000000
LOCATION:112, route de Dax
Pôle culturel de Hinx, salles SerGio\, 40180 Hinx\, France
URL:https://www.fest.fr/e/2334308
UID:2334308-1@fest.fr
END:VEVENT
END:VCALENDAR
