BEGIN:VCALENDAR
CALSCALE:GREGORIAN
VERSION:2.0
METHOD:PUBLISH 
X-WR-CALNAME:
BEGIN:VEVENT
DTSTART;TZID=Europe/Paris:20260416T180000
DTEND;TZID=Europe/Paris:20260416T190000
SUMMARY:Marché-Distribution
CATEGORIE:Marchés, Foires et Salons
GEO:46.32602510000000;1.90584390000000
LOCATION:22 Rue Grande
Le Chai\, 23220 Bonnat\, France
URL:https://www.fest.fr/e/2334208
UID:2334208-1@fest.fr
END:VEVENT
BEGIN:VEVENT
DTSTART;TZID=Europe/Paris:20260430T180000
DTEND;TZID=Europe/Paris:20260430T190000
SUMMARY:Marché-Distribution
CATEGORIE:Marchés, Foires et Salons
GEO:46.32602510000000;1.90584390000000
LOCATION:22 Rue Grande
Le Chai\, 23220 Bonnat\, France
URL:https://www.fest.fr/e/2334208
UID:2334208-2@fest.fr
END:VEVENT
BEGIN:VEVENT
DTSTART;TZID=Europe/Paris:20260514T180000
DTEND;TZID=Europe/Paris:20260514T190000
SUMMARY:Marché-Distribution
CATEGORIE:Marchés, Foires et Salons
GEO:46.32602510000000;1.90584390000000
LOCATION:22 Rue Grande
Le Chai\, 23220 Bonnat\, France
URL:https://www.fest.fr/e/2334208
UID:2334208-3@fest.fr
END:VEVENT
BEGIN:VEVENT
DTSTART;TZID=Europe/Paris:20260528T180000
DTEND;TZID=Europe/Paris:20260528T190000
SUMMARY:Marché-Distribution
CATEGORIE:Marchés, Foires et Salons
GEO:46.32602510000000;1.90584390000000
LOCATION:22 Rue Grande
Le Chai\, 23220 Bonnat\, France
URL:https://www.fest.fr/e/2334208
UID:2334208-4@fest.fr
END:VEVENT
BEGIN:VEVENT
DTSTART;TZID=Europe/Paris:20260611T180000
DTEND;TZID=Europe/Paris:20260611T190000
SUMMARY:Marché-Distribution
CATEGORIE:Marchés, Foires et Salons
GEO:46.32602510000000;1.90584390000000
LOCATION:22 Rue Grande
Le Chai\, 23220 Bonnat\, France
URL:https://www.fest.fr/e/2334208
UID:2334208-5@fest.fr
END:VEVENT
BEGIN:VEVENT
DTSTART;TZID=Europe/Paris:20260625T180000
DTEND;TZID=Europe/Paris:20260625T190000
SUMMARY:Marché-Distribution
CATEGORIE:Marchés, Foires et Salons
GEO:46.32602510000000;1.90584390000000
LOCATION:22 Rue Grande
Le Chai\, 23220 Bonnat\, France
URL:https://www.fest.fr/e/2334208
UID:2334208-6@fest.fr
END:VEVENT
BEGIN:VEVENT
DTSTART;TZID=Europe/Paris:20260709T180000
DTEND;TZID=Europe/Paris:20260709T190000
SUMMARY:Marché-Distribution
CATEGORIE:Marchés, Foires et Salons
GEO:46.32602510000000;1.90584390000000
LOCATION:22 Rue Grande
Le Chai\, 23220 Bonnat\, France
URL:https://www.fest.fr/e/2334208
UID:2334208-7@fest.fr
END:VEVENT
BEGIN:VEVENT
DTSTART;TZID=Europe/Paris:20260723T180000
DTEND;TZID=Europe/Paris:20260723T190000
SUMMARY:Marché-Distribution
CATEGORIE:Marchés, Foires et Salons
GEO:46.32602510000000;1.90584390000000
LOCATION:22 Rue Grande
Le Chai\, 23220 Bonnat\, France
URL:https://www.fest.fr/e/2334208
UID:2334208-8@fest.fr
END:VEVENT
BEGIN:VEVENT
DTSTART;TZID=Europe/Paris:20260806T180000
DTEND;TZID=Europe/Paris:20260806T190000
SUMMARY:Marché-Distribution
CATEGORIE:Marchés, Foires et Salons
GEO:46.32602510000000;1.90584390000000
LOCATION:22 Rue Grande
Le Chai\, 23220 Bonnat\, France
URL:https://www.fest.fr/e/2334208
UID:2334208-9@fest.fr
END:VEVENT
BEGIN:VEVENT
DTSTART;TZID=Europe/Paris:20260820T180000
DTEND;TZID=Europe/Paris:20260820T190000
SUMMARY:Marché-Distribution
CATEGORIE:Marchés, Foires et Salons
GEO:46.32602510000000;1.90584390000000
LOCATION:22 Rue Grande
Le Chai\, 23220 Bonnat\, France
URL:https://www.fest.fr/e/2334208
UID:2334208-10@fest.fr
END:VEVENT
BEGIN:VEVENT
DTSTART;TZID=Europe/Paris:20260903T180000
DTEND;TZID=Europe/Paris:20260903T190000
SUMMARY:Marché-Distribution
CATEGORIE:Marchés, Foires et Salons
GEO:46.32602510000000;1.90584390000000
LOCATION:22 Rue Grande
Le Chai\, 23220 Bonnat\, France
URL:https://www.fest.fr/e/2334208
UID:2334208-11@fest.fr
END:VEVENT
BEGIN:VEVENT
DTSTART;TZID=Europe/Paris:20260917T180000
DTEND;TZID=Europe/Paris:20260917T190000
SUMMARY:Marché-Distribution
CATEGORIE:Marchés, Foires et Salons
GEO:46.32602510000000;1.90584390000000
LOCATION:22 Rue Grande
Le Chai\, 23220 Bonnat\, France
URL:https://www.fest.fr/e/2334208
UID:2334208-12@fest.fr
END:VEVENT
BEGIN:VEVENT
DTSTART;TZID=Europe/Paris:20261001T180000
DTEND;TZID=Europe/Paris:20261001T190000
SUMMARY:Marché-Distribution
CATEGORIE:Marchés, Foires et Salons
GEO:46.32602510000000;1.90584390000000
LOCATION:22 Rue Grande
Le Chai\, 23220 Bonnat\, France
URL:https://www.fest.fr/e/2334208
UID:2334208-13@fest.fr
END:VEVENT
BEGIN:VEVENT
DTSTART;TZID=Europe/Paris:20261015T180000
DTEND;TZID=Europe/Paris:20261015T190000
SUMMARY:Marché-Distribution
CATEGORIE:Marchés, Foires et Salons
GEO:46.32602510000000;1.90584390000000
LOCATION:22 Rue Grande
Le Chai\, 23220 Bonnat\, France
URL:https://www.fest.fr/e/2334208
UID:2334208-14@fest.fr
END:VEVENT
BEGIN:VEVENT
DTSTART;TZID=Europe/Paris:20261029T180000
DTEND;TZID=Europe/Paris:20261029T190000
SUMMARY:Marché-Distribution
CATEGORIE:Marchés, Foires et Salons
GEO:46.32602510000000;1.90584390000000
LOCATION:22 Rue Grande
Le Chai\, 23220 Bonnat\, France
URL:https://www.fest.fr/e/2334208
UID:2334208-15@fest.fr
END:VEVENT
BEGIN:VEVENT
DTSTART;TZID=Europe/Paris:20261112T180000
DTEND;TZID=Europe/Paris:20261112T190000
SUMMARY:Marché-Distribution
CATEGORIE:Marchés, Foires et Salons
GEO:46.32602510000000;1.90584390000000
LOCATION:22 Rue Grande
Le Chai\, 23220 Bonnat\, France
URL:https://www.fest.fr/e/2334208
UID:2334208-16@fest.fr
END:VEVENT
BEGIN:VEVENT
DTSTART;TZID=Europe/Paris:20261126T180000
DTEND;TZID=Europe/Paris:20261126T190000
SUMMARY:Marché-Distribution
CATEGORIE:Marchés, Foires et Salons
GEO:46.32602510000000;1.90584390000000
LOCATION:22 Rue Grande
Le Chai\, 23220 Bonnat\, France
URL:https://www.fest.fr/e/2334208
UID:2334208-17@fest.fr
END:VEVENT
BEGIN:VEVENT
DTSTART;TZID=Europe/Paris:20261210T180000
DTEND;TZID=Europe/Paris:20261210T190000
SUMMARY:Marché-Distribution
CATEGORIE:Marchés, Foires et Salons
GEO:46.32602510000000;1.90584390000000
LOCATION:22 Rue Grande
Le Chai\, 23220 Bonnat\, France
URL:https://www.fest.fr/e/2334208
UID:2334208-18@fest.fr
END:VEVENT
BEGIN:VEVENT
DTSTART;TZID=Europe/Paris:20261224T180000
DTEND;TZID=Europe/Paris:20261224T190000
SUMMARY:Marché-Distribution
CATEGORIE:Marchés, Foires et Salons
GEO:46.32602510000000;1.90584390000000
LOCATION:22 Rue Grande
Le Chai\, 23220 Bonnat\, France
URL:https://www.fest.fr/e/2334208
UID:2334208-19@fest.fr
END:VEVENT
END:VCALENDAR
