BEGIN:VCALENDAR
CALSCALE:GREGORIAN
VERSION:2.0
METHOD:PUBLISH 
X-WR-CALNAME:
BEGIN:VEVENT
DTSTART;TZID=Europe/Paris:20260425T143000
DTEND;TZID=Europe/Paris:20260425T153000
SUMMARY:Conférence: Louis de Nussac (Musée Labenche)
CATEGORIE:Conférences, Forums et Débats
GEO:45.15828540000000;1.53526950000000
LOCATION:26 bis boulevard Jules Ferry
Musée Labenche\, 19100 Brive-la-Gaillarde\, France
URL:https://www.fest.fr/e/2333912
UID:2333912-1@fest.fr
END:VEVENT
END:VCALENDAR
