BEGIN:VCALENDAR
CALSCALE:GREGORIAN
VERSION:2.0
METHOD:PUBLISH 
X-WR-CALNAME:
BEGIN:VEVENT
DTSTART;TZID=Europe/Paris:20260617T143000
DTEND;TZID=Europe/Paris:20260617T153000
SUMMARY:Venez créer numérique
CATEGORIE:Stages, Ateliers et Initiations
GEO:44.55394200000000;-0.24595300000000
LOCATION:33 Rue Maubec
Médiathèque la Quincaillerie\, 33210 Langon\, France
URL:https://www.fest.fr/e/2333793
UID:2333793-1@fest.fr
END:VEVENT
END:VCALENDAR
