BEGIN:VCALENDAR
CALSCALE:GREGORIAN
VERSION:2.0
METHOD:PUBLISH 
X-WR-CALNAME:
BEGIN:VEVENT
DTSTART;TZID=Europe/Paris:20260424T203000
DTEND;TZID=Europe/Paris:20260424T213000
SUMMARY:Gilad Hekselman trio « Downhill From Here! »
CATEGORIE:Concerts et Musique
GEO:43.28383540000000;-0.39291150000000
LOCATION:27 Avenue Bagnell
Atelier du Neez\, 64110 Jurançon\, France
URL:https://www.fest.fr/e/2333450
UID:2333450-1@fest.fr
END:VEVENT
END:VCALENDAR
