BEGIN:VCALENDAR
CALSCALE:GREGORIAN
VERSION:2.0
METHOD:PUBLISH 
X-WR-CALNAME:
BEGIN:VEVENT
DTSTART;TZID=Europe/Paris:20260417T110000
DTEND;TZID=Europe/Paris:20260417T120000
SUMMARY:La forêt en éveil
CATEGORIE:Stages, Ateliers et Initiations
GEO:44.76621240000000;-1.14365490000000
LOCATION:Du coté Office de Tourisme
Parc de la MGEN\, 33740 Arès\, France
URL:https://www.fest.fr/e/2333397
UID:2333397-1@fest.fr
END:VEVENT
BEGIN:VEVENT
DTSTART;TZID=Europe/Paris:20260421T160000
DTEND;TZID=Europe/Paris:20260421T170000
SUMMARY:La forêt en éveil
CATEGORIE:Stages, Ateliers et Initiations
GEO:44.76621240000000;-1.14365490000000
LOCATION:Du coté Office de Tourisme
Parc de la MGEN\, 33740 Arès\, France
URL:https://www.fest.fr/e/2333397
UID:2333397-2@fest.fr
END:VEVENT
END:VCALENDAR
