BEGIN:VCALENDAR
CALSCALE:GREGORIAN
VERSION:2.0
METHOD:PUBLISH 
X-WR-CALNAME:
BEGIN:VEVENT
DTSTART;TZID=Europe/Paris:20260726T123456
DTEND;TZID=Europe/Paris:20260726T133456
SUMMARY:Festival de Saint-Céré
CATEGORIE:Concerts et Musique
GEO:44.86240300000000;1.88944649000000
LOCATION:18 Avenue du Docteur Roux\, 46400 Saint-Céré\, France
URL:https://www.fest.fr/e/2332810
UID:2332810-1@fest.fr
END:VEVENT
END:VCALENDAR
