BEGIN:VCALENDAR
CALSCALE:GREGORIAN
VERSION:2.0
METHOD:PUBLISH 
X-WR-CALNAME:
BEGIN:VEVENT
DTSTART;TZID=Europe/Paris:20260625T200000
DTEND;TZID=Europe/Paris:20260625T210000
SUMMARY:[SCÈNE OUVERTE] Erwin Spies
CATEGORIE:Concerts et Musique
GEO:47.33956080000000;2.85281017000000
LOCATION:14 Rue Hilaire Amagat\, 18300 Saint-Satur\, France
URL:https://www.fest.fr/e/2332772
UID:2332772-1@fest.fr
END:VEVENT
END:VCALENDAR
