BEGIN:VCALENDAR
CALSCALE:GREGORIAN
VERSION:2.0
METHOD:PUBLISH 
X-WR-CALNAME:
BEGIN:VEVENT
DTSTART;TZID=Europe/Paris:20261105T110000
DTEND;TZID=Europe/Paris:20261105T120000
SUMMARY:Courses hippiques de Novembre
CATEGORIE:Sports
GEO:46.76615500000000;2.16770100000000
LOCATION:Les Amourettes\, 18160 La Celle-Condé\, France
URL:https://www.fest.fr/e/2332357
UID:2332357-1@fest.fr
END:VEVENT
END:VCALENDAR
