BEGIN:VCALENDAR
CALSCALE:GREGORIAN
VERSION:2.0
METHOD:PUBLISH 
X-WR-CALNAME:
BEGIN:VEVENT
DTSTART;TZID=Europe/Paris:20260219T140000
DTEND;TZID=Europe/Paris:20260219T150000
SUMMARY:Atelier de modelage d'argile pour enfants vacances d'hiver : les animaux fantast
CATEGORIE:Stages, Ateliers et Initiations
GEO:47.82074580000000;1.75521740000000
LOCATION:111 Rue du Maréchal Foch\, 45370 Cléry-Saint-André\, France
URL:https://www.fest.fr/e/2332307
UID:2332307-1@fest.fr
END:VEVENT
END:VCALENDAR
