BEGIN:VCALENDAR
CALSCALE:GREGORIAN
VERSION:2.0
METHOD:PUBLISH 
X-WR-CALNAME:
BEGIN:VEVENT
DTSTART;TZID=Europe/Paris:20260606T150000
DTEND;TZID=Europe/Paris:20260606T160000
SUMMARY:Samedi créatif "atelier secrets de rose"
CATEGORIE:Stages, Ateliers et Initiations
GEO:47.98696130000000;2.44180230000000
LOCATION:Cour d'Antin\, 45270 Bellegarde\, France
URL:https://www.fest.fr/e/2332301
UID:2332301-1@fest.fr
END:VEVENT
END:VCALENDAR
