BEGIN:VCALENDAR
CALSCALE:GREGORIAN
VERSION:2.0
METHOD:PUBLISH 
X-WR-CALNAME:
BEGIN:VEVENT
DTSTART;TZID=Europe/Paris:20260627T090000
DTEND;TZID=Europe/Paris:20260627T100000
SUMMARY:Les ateliers cuisine avec Émilie
CATEGORIE:Stages, Ateliers et Initiations
GEO:47.75925130000000;2.51876600000000
LOCATION:33 Rue Amédée de Béhague\, 45570 Dampierre-en-Burly\, France
URL:https://www.fest.fr/e/2332291
UID:2332291-1@fest.fr
END:VEVENT
BEGIN:VEVENT
DTSTART;TZID=Europe/Paris:20260627T140000
DTEND;TZID=Europe/Paris:20260627T150000
SUMMARY:Les ateliers cuisine avec Émilie
CATEGORIE:Stages, Ateliers et Initiations
GEO:47.75925130000000;2.51876600000000
LOCATION:33 Rue Amédée de Béhague\, 45570 Dampierre-en-Burly\, France
URL:https://www.fest.fr/e/2332291
UID:2332291-2@fest.fr
END:VEVENT
END:VCALENDAR
