BEGIN:VCALENDAR
CALSCALE:GREGORIAN
VERSION:2.0
METHOD:PUBLISH 
X-WR-CALNAME:
BEGIN:VEVENT
DTSTART;TZID=Europe/Paris:20261206T080000
DTEND;TZID=Europe/Paris:20261206T090000
SUMMARY:Marché de Noël
CATEGORIE:Marchés, Foires et Salons
GEO:47.59198320000000;2.74545934000000
LOCATION:rue de la boyaudière\, 45360 Châtillon-sur-Loire\, France
URL:https://www.fest.fr/e/2332280
UID:2332280-1@fest.fr
END:VEVENT
END:VCALENDAR
