BEGIN:VCALENDAR
CALSCALE:GREGORIAN
VERSION:2.0
METHOD:PUBLISH 
X-WR-CALNAME:
BEGIN:VEVENT
DTSTART;TZID=Europe/Paris:20260608T123456
DTEND;TZID=Europe/Paris:20260608T133456
SUMMARY:Exposition de peinture Serge Delfau
CATEGORIE:Expositions, Visites et Découvertes
GEO:45.84250700000000;-1.20877900000000
LOCATION:86 rue de la République
Les Cimaises\, 17370 Saint-Trojan-les-Bains\, France
URL:https://www.fest.fr/e/2332056
UID:2332056-1@fest.fr
END:VEVENT
END:VCALENDAR
