BEGIN:VCALENDAR
CALSCALE:GREGORIAN
VERSION:2.0
METHOD:PUBLISH 
X-WR-CALNAME:
BEGIN:VEVENT
DTSTART;TZID=Europe/Paris:20261212T123456
DTEND;TZID=Europe/Paris:20261212T133456
SUMMARY:Exposition "Japon : chefs-d'oeuvre du musée Guimet", l'Asie s'invite au MARQ
CATEGORIE:Expositions, Visites et Découvertes
GEO:45.79397300000000;3.11680600000000
LOCATION:Musée d'art Roger-Quilliot
Place Louis-Deteix
Quartier historique de Montferrand\, 63100 Clermont-Ferrand\, France
URL:https://www.fest.fr/e/2331330
UID:2331330-1@fest.fr
END:VEVENT
END:VCALENDAR
