BEGIN:VCALENDAR
CALSCALE:GREGORIAN
VERSION:2.0
METHOD:PUBLISH 
X-WR-CALNAME:
BEGIN:VEVENT
DTSTART;TZID=Europe/Paris:20260425T100000
DTEND;TZID=Europe/Paris:20260425T110000
SUMMARY:Exposition "Tous en scène, 20 ans de collections "
CATEGORIE:Expositions, Visites et Découvertes
GEO:46.56167100000000;3.31955600000000
LOCATION:Centre national du costume et de la scène
Quartier Villars - Route de Montilly\, 03000 Moulins\, France
URL:https://www.fest.fr/e/2331237
UID:2331237-1@fest.fr
END:VEVENT
END:VCALENDAR
