BEGIN:VCALENDAR
CALSCALE:GREGORIAN
VERSION:2.0
METHOD:PUBLISH 
X-WR-CALNAME:
BEGIN:VEVENT
DTSTART;TZID=Europe/Paris:20261029T210000
DTEND;TZID=Europe/Paris:20261029T220000
SUMMARY:Leurs Désirs Font Désordres
CATEGORIE:Spectacles et théâtre
GEO:49.18385308271300;-0.35755406225200
LOCATION:THEATRE A L'OUEST CAEN\, 8 QUAI VENDEUVRE\, 14000 Caen\, France
URL:https://www.fest.fr/e/2330066
UID:2330066-1@fest.fr
END:VEVENT
BEGIN:VEVENT
DTSTART;TZID=Europe/Paris:20261030T210000
DTEND;TZID=Europe/Paris:20261030T220000
SUMMARY:Leurs Désirs Font Désordres
CATEGORIE:Spectacles et théâtre
GEO:49.18385308271300;-0.35755406225200
LOCATION:THEATRE A L'OUEST CAEN\, 8 QUAI VENDEUVRE\, 14000 Caen\, France
URL:https://www.fest.fr/e/2330066
UID:2330066-2@fest.fr
END:VEVENT
END:VCALENDAR
