BEGIN:VCALENDAR
CALSCALE:GREGORIAN
VERSION:2.0
METHOD:PUBLISH 
X-WR-CALNAME:
BEGIN:VEVENT
DTSTART;TZID=Europe/Paris:20260529T203000
DTEND;TZID=Europe/Paris:20260529T213000
SUMMARY:Ennemies pour la Vie
CATEGORIE:Spectacles et théâtre
LOCATION:Lablascène\, 122 chemin de Rieublanquet\, 07230 Lablachère\, France
URL:https://www.fest.fr/e/2330015
UID:2330015-1@fest.fr
END:VEVENT
BEGIN:VEVENT
DTSTART;TZID=Europe/Paris:20260530T203000
DTEND;TZID=Europe/Paris:20260530T213000
SUMMARY:Ennemies pour la Vie
CATEGORIE:Spectacles et théâtre
LOCATION:Lablascène\, 122 chemin de Rieublanquet\, 07230 Lablachère\, France
URL:https://www.fest.fr/e/2330015
UID:2330015-2@fest.fr
END:VEVENT
END:VCALENDAR
