BEGIN:VCALENDAR
CALSCALE:GREGORIAN
VERSION:2.0
METHOD:PUBLISH 
X-WR-CALNAME:
BEGIN:VEVENT
DTSTART;TZID=Europe/Paris:20260425T163000
DTEND;TZID=Europe/Paris:20260425T173000
SUMMARY:La Soeur de Shakespeare - Studio Hébertot, Paris
CATEGORIE:Spectacles et théâtre
GEO:48.88207784490900;2.31918754977100
LOCATION:STUDIO HEBERTOT\, 78 BIS BD DES BATIGNOLLES\, 75017 Paris 17e\, France
URL:https://www.fest.fr/e/2329245
UID:2329245-1@fest.fr
END:VEVENT
BEGIN:VEVENT
DTSTART;TZID=Europe/Paris:20260426T190000
DTEND;TZID=Europe/Paris:20260426T200000
SUMMARY:La Soeur de Shakespeare - Studio Hébertot, Paris
CATEGORIE:Spectacles et théâtre
GEO:48.88207784490900;2.31918754977100
LOCATION:STUDIO HEBERTOT\, 78 BIS BD DES BATIGNOLLES\, 75017 Paris 17e\, France
URL:https://www.fest.fr/e/2329245
UID:2329245-2@fest.fr
END:VEVENT
BEGIN:VEVENT
DTSTART;TZID=Europe/Paris:20260502T163000
DTEND;TZID=Europe/Paris:20260502T173000
SUMMARY:La Soeur de Shakespeare - Studio Hébertot, Paris
CATEGORIE:Spectacles et théâtre
GEO:48.88207784490900;2.31918754977100
LOCATION:STUDIO HEBERTOT\, 78 BIS BD DES BATIGNOLLES\, 75017 Paris 17e\, France
URL:https://www.fest.fr/e/2329245
UID:2329245-3@fest.fr
END:VEVENT
BEGIN:VEVENT
DTSTART;TZID=Europe/Paris:20260503T190000
DTEND;TZID=Europe/Paris:20260503T200000
SUMMARY:La Soeur de Shakespeare - Studio Hébertot, Paris
CATEGORIE:Spectacles et théâtre
GEO:48.88207784490900;2.31918754977100
LOCATION:STUDIO HEBERTOT\, 78 BIS BD DES BATIGNOLLES\, 75017 Paris 17e\, France
URL:https://www.fest.fr/e/2329245
UID:2329245-4@fest.fr
END:VEVENT
BEGIN:VEVENT
DTSTART;TZID=Europe/Paris:20260509T163000
DTEND;TZID=Europe/Paris:20260509T173000
SUMMARY:La Soeur de Shakespeare - Studio Hébertot, Paris
CATEGORIE:Spectacles et théâtre
GEO:48.88207784490900;2.31918754977100
LOCATION:STUDIO HEBERTOT\, 78 BIS BD DES BATIGNOLLES\, 75017 Paris 17e\, France
URL:https://www.fest.fr/e/2329245
UID:2329245-5@fest.fr
END:VEVENT
BEGIN:VEVENT
DTSTART;TZID=Europe/Paris:20260510T190000
DTEND;TZID=Europe/Paris:20260510T200000
SUMMARY:La Soeur de Shakespeare - Studio Hébertot, Paris
CATEGORIE:Spectacles et théâtre
GEO:48.88207784490900;2.31918754977100
LOCATION:STUDIO HEBERTOT\, 78 BIS BD DES BATIGNOLLES\, 75017 Paris 17e\, France
URL:https://www.fest.fr/e/2329245
UID:2329245-6@fest.fr
END:VEVENT
BEGIN:VEVENT
DTSTART;TZID=Europe/Paris:20260516T163000
DTEND;TZID=Europe/Paris:20260516T173000
SUMMARY:La Soeur de Shakespeare - Studio Hébertot, Paris
CATEGORIE:Spectacles et théâtre
GEO:48.88207784490900;2.31918754977100
LOCATION:STUDIO HEBERTOT\, 78 BIS BD DES BATIGNOLLES\, 75017 Paris 17e\, France
URL:https://www.fest.fr/e/2329245
UID:2329245-7@fest.fr
END:VEVENT
BEGIN:VEVENT
DTSTART;TZID=Europe/Paris:20260517T190000
DTEND;TZID=Europe/Paris:20260517T200000
SUMMARY:La Soeur de Shakespeare - Studio Hébertot, Paris
CATEGORIE:Spectacles et théâtre
GEO:48.88207784490900;2.31918754977100
LOCATION:STUDIO HEBERTOT\, 78 BIS BD DES BATIGNOLLES\, 75017 Paris 17e\, France
URL:https://www.fest.fr/e/2329245
UID:2329245-8@fest.fr
END:VEVENT
BEGIN:VEVENT
DTSTART;TZID=Europe/Paris:20260523T163000
DTEND;TZID=Europe/Paris:20260523T173000
SUMMARY:La Soeur de Shakespeare - Studio Hébertot, Paris
CATEGORIE:Spectacles et théâtre
GEO:48.88207784490900;2.31918754977100
LOCATION:STUDIO HEBERTOT\, 78 BIS BD DES BATIGNOLLES\, 75017 Paris 17e\, France
URL:https://www.fest.fr/e/2329245
UID:2329245-9@fest.fr
END:VEVENT
BEGIN:VEVENT
DTSTART;TZID=Europe/Paris:20260524T190000
DTEND;TZID=Europe/Paris:20260524T200000
SUMMARY:La Soeur de Shakespeare - Studio Hébertot, Paris
CATEGORIE:Spectacles et théâtre
GEO:48.88207784490900;2.31918754977100
LOCATION:STUDIO HEBERTOT\, 78 BIS BD DES BATIGNOLLES\, 75017 Paris 17e\, France
URL:https://www.fest.fr/e/2329245
UID:2329245-10@fest.fr
END:VEVENT
BEGIN:VEVENT
DTSTART;TZID=Europe/Paris:20260530T163000
DTEND;TZID=Europe/Paris:20260530T173000
SUMMARY:La Soeur de Shakespeare - Studio Hébertot, Paris
CATEGORIE:Spectacles et théâtre
GEO:48.88207784490900;2.31918754977100
LOCATION:STUDIO HEBERTOT\, 78 BIS BD DES BATIGNOLLES\, 75017 Paris 17e\, France
URL:https://www.fest.fr/e/2329245
UID:2329245-11@fest.fr
END:VEVENT
BEGIN:VEVENT
DTSTART;TZID=Europe/Paris:20260531T190000
DTEND;TZID=Europe/Paris:20260531T200000
SUMMARY:La Soeur de Shakespeare - Studio Hébertot, Paris
CATEGORIE:Spectacles et théâtre
GEO:48.88207784490900;2.31918754977100
LOCATION:STUDIO HEBERTOT\, 78 BIS BD DES BATIGNOLLES\, 75017 Paris 17e\, France
URL:https://www.fest.fr/e/2329245
UID:2329245-12@fest.fr
END:VEVENT
END:VCALENDAR
