BEGIN:VCALENDAR
CALSCALE:GREGORIAN
VERSION:2.0
METHOD:PUBLISH 
X-WR-CALNAME:
BEGIN:VEVENT
DTSTART;TZID=Europe/Paris:20260518T203000
DTEND;TZID=Europe/Paris:20260518T213000
SUMMARY:La Confession - Théâtre du Nord-Ouest, Paris
CATEGORIE:Spectacles et théâtre
GEO:48.87243022038600;2.34277456279900
LOCATION:THEATRE DU NORD-OUEST\, 13 rue du Fbg Montmartre\, 75009 Paris 9e\, France
URL:https://www.fest.fr/e/2328596
UID:2328596-1@fest.fr
END:VEVENT
END:VCALENDAR
