BEGIN:VCALENDAR
CALSCALE:GREGORIAN
VERSION:2.0
METHOD:PUBLISH 
X-WR-CALNAME:
BEGIN:VEVENT
DTSTART;TZID=Europe/Paris:20260606T203000
DTEND;TZID=Europe/Paris:20260606T213000
SUMMARY:La Maison Tellier
CATEGORIE:Concerts et musique
GEO:48.89409282594800;2.08841925027400
LOCATION:La CLEF - Saint-Germain-en-Laye\, 46 Rue de Mareil\, 78100 Saint-Germain-en-Laye\, France
URL:https://www.fest.fr/e/2327806
UID:2327806-1@fest.fr
END:VEVENT
END:VCALENDAR
