BEGIN:VCALENDAR
CALSCALE:GREGORIAN
VERSION:2.0
METHOD:PUBLISH 
X-WR-CALNAME:
BEGIN:VEVENT
DTSTART;TZID=Europe/Paris:20260424T213000
DTEND;TZID=Europe/Paris:20260424T223000
SUMMARY:Je suis Hamlet - Théâtre Montmartre Galabru, Paris
CATEGORIE:Spectacles et théâtre
GEO:48.88732304745100;2.33453446178900
LOCATION:THEATRE MONTMARTRE GALABRU\, 4 RUE DE L'ARMÉE D'ORIENT\, 75018 Paris 18e\, France
URL:https://www.fest.fr/e/2327134
UID:2327134-1@fest.fr
END:VEVENT
END:VCALENDAR
