BEGIN:VCALENDAR
CALSCALE:GREGORIAN
VERSION:2.0
METHOD:PUBLISH 
X-WR-CALNAME:
BEGIN:VEVENT
DTSTART;TZID=Europe/Paris:20260429T210000
DTEND;TZID=Europe/Paris:20260429T220000
SUMMARY:Une Heure à t'Attendre - Théâtre de Paris
CATEGORIE:Spectacles et théâtre
GEO:48.87871004211600;2.33146897803100
LOCATION:THEATRE DE PARIS - SALLE REJANE\, 15, rue Blanche\, 75009 Paris 9e\, France
URL:https://www.fest.fr/e/2327113
UID:2327113-1@fest.fr
END:VEVENT
BEGIN:VEVENT
DTSTART;TZID=Europe/Paris:20260430T210000
DTEND;TZID=Europe/Paris:20260430T220000
SUMMARY:Une Heure à t'Attendre - Théâtre de Paris
CATEGORIE:Spectacles et théâtre
GEO:48.87871004211600;2.33146897803100
LOCATION:THEATRE DE PARIS - SALLE REJANE\, 15, rue Blanche\, 75009 Paris 9e\, France
URL:https://www.fest.fr/e/2327113
UID:2327113-2@fest.fr
END:VEVENT
END:VCALENDAR
