BEGIN:VCALENDAR
CALSCALE:GREGORIAN
VERSION:2.0
METHOD:PUBLISH 
X-WR-CALNAME:
BEGIN:VEVENT
DTSTART;TZID=Europe/Paris:20260125T150000
DTEND;TZID=Europe/Paris:20260125T160000
SUMMARY:Cours de cuisine végétale &quot;Cuisine du Liban 1 – Pain & Mezzés&quot;
CATEGORIE:Stages, Ateliers et Initiations
LOCATION:Les Ateliers Végé\, 6 rue Taufflieb\, 67140 Barr\, France
URL:https://www.fest.fr/e/2327029
UID:2327029-1@fest.fr
END:VEVENT
BEGIN:VEVENT
DTSTART;TZID=Europe/Paris:20260322T150000
DTEND;TZID=Europe/Paris:20260322T160000
SUMMARY:Cours de cuisine végétale &quot;Cuisine du Liban 1 – Pain & Mezzés&quot;
CATEGORIE:Stages, Ateliers et Initiations
LOCATION:Les Ateliers Végé\, 6 rue Taufflieb\, 67140 Barr\, France
URL:https://www.fest.fr/e/2327029
UID:2327029-2@fest.fr
END:VEVENT
BEGIN:VEVENT
DTSTART;TZID=Europe/Paris:20260524T150000
DTEND;TZID=Europe/Paris:20260524T160000
SUMMARY:Cours de cuisine végétale &quot;Cuisine du Liban 1 – Pain & Mezzés&quot;
CATEGORIE:Stages, Ateliers et Initiations
LOCATION:Les Ateliers Végé\, 6 rue Taufflieb\, 67140 Barr\, France
URL:https://www.fest.fr/e/2327029
UID:2327029-3@fest.fr
END:VEVENT
END:VCALENDAR
