BEGIN:VCALENDAR
CALSCALE:GREGORIAN
VERSION:2.0
METHOD:PUBLISH 
X-WR-CALNAME:
BEGIN:VEVENT
DTSTART;TZID=Europe/Paris:20261006T203000
DTEND;TZID=Europe/Paris:20261006T213000
SUMMARY:Kevin Levy - Cocu - Tournée
CATEGORIE:Spectacles et théâtre
GEO:47.21307708601300;-1.54279391930500
LOCATION:Auditorium 800 - Cité des Congrès\, 5, rue de Valmy\, 44000 Nantes\, France
URL:https://www.fest.fr/e/2326915
UID:2326915-1@fest.fr
END:VEVENT
END:VCALENDAR
