BEGIN:VCALENDAR
CALSCALE:GREGORIAN
VERSION:2.0
METHOD:PUBLISH 
X-WR-CALNAME:
BEGIN:VEVENT
DTSTART;TZID=Europe/Paris:20260620T210000
DTEND;TZID=Europe/Paris:20260620T220000
SUMMARY:Imagine, Tournée
CATEGORIE:Spectacles et théâtre
GEO:46.16343272602400;-1.15334588038800
LOCATION:Comédie La Rochelle\, 18 rue Rambaud\, 17000 La Rochelle\, France
URL:https://www.fest.fr/e/2326898
UID:2326898-1@fest.fr
END:VEVENT
END:VCALENDAR
