BEGIN:VCALENDAR
CALSCALE:GREGORIAN
VERSION:2.0
METHOD:PUBLISH 
X-WR-CALNAME:
BEGIN:VEVENT
DTSTART;TZID=Europe/Paris:20260131T123456
DTEND;TZID=Europe/Paris:20260131T133456
SUMMARY:ÉLISE ET LES SOUVENIRS VOYAGEURS
CATEGORIE:Spectacles et Théâtre
GEO:43.60360690000000;3.49181100000000
LOCATION:145 Avenue du Capitaine Fulcrand\, 34800 Canet\, France
URL:https://www.fest.fr/e/2326189
UID:2326189-1@fest.fr
END:VEVENT
END:VCALENDAR
