BEGIN:VCALENDAR
CALSCALE:GREGORIAN
VERSION:2.0
METHOD:PUBLISH 
X-WR-CALNAME:
BEGIN:VEVENT
DTSTART;TZID=Europe/Paris:20260418T110000
DTEND;TZID=Europe/Paris:20260418T120000
SUMMARY:Visite "costumée" du Château Abbadia
CATEGORIE:Expositions, Visites et Découvertes
GEO:43.37638100000000;-1.74817540000000
LOCATION:Abbadia, le Château-Observatoire
Route de la Corniche\, 64700 Hendaye\, France
URL:https://www.fest.fr/e/2326161
UID:2326161-1@fest.fr
END:VEVENT
END:VCALENDAR
