BEGIN:VCALENDAR
CALSCALE:GREGORIAN
VERSION:2.0
METHOD:PUBLISH 
X-WR-CALNAME:
BEGIN:VEVENT
DTSTART;TZID=Europe/Paris:20260506T090000
DTEND;TZID=Europe/Paris:20260506T100000
SUMMARY:Marché du mercredi
CATEGORIE:Marchés, Foires et Salons
GEO:43.43551440000000;-1.51957710000000
LOCATION:Parking du Bourg\, 64200 Arcangues\, France
URL:https://www.fest.fr/e/2326080
UID:2326080-1@fest.fr
END:VEVENT
END:VCALENDAR
