BEGIN:VCALENDAR
CALSCALE:GREGORIAN
VERSION:2.0
METHOD:PUBLISH 
X-WR-CALNAME:
BEGIN:VEVENT
DTSTART;TZID=Europe/Paris:20270403T200000
DTEND;TZID=Europe/Paris:20270403T210000
SUMMARY:Booder - Ah... L'Ecole ! - Tournée
CATEGORIE:Spectacles et théâtre
GEO:46.71195425985000;-1.43672139359700
LOCATION:Vendéspace\, Parc de Beaupuy\, 85000 Mouilleron-le-Captif\, France
URL:https://www.fest.fr/e/2325978
UID:2325978-1@fest.fr
END:VEVENT
END:VCALENDAR
