BEGIN:VCALENDAR
CALSCALE:GREGORIAN
VERSION:2.0
METHOD:PUBLISH 
X-WR-CALNAME:
BEGIN:VEVENT
DTSTART;TZID=Europe/Paris:20260314T100000
DTEND;TZID=Europe/Paris:20260314T110000
SUMMARY:Exposition Vente Playmobil
CATEGORIE:Expositions, Visites et Découvertes
GEO:50.65751109379976;2.76665995110138
LOCATION:Complexe sportif\, 911, rue de la lys\, 62840 Sailly-sur-la-Lys\, France
URL:https://www.fest.fr/e/2325823
UID:2325823-1@fest.fr
END:VEVENT
BEGIN:VEVENT
DTSTART;TZID=Europe/Paris:20260315T100000
DTEND;TZID=Europe/Paris:20260315T110000
SUMMARY:Exposition Vente Playmobil
CATEGORIE:Expositions, Visites et Découvertes
GEO:50.65751109379976;2.76665995110138
LOCATION:Complexe sportif\, 911, rue de la lys\, 62840 Sailly-sur-la-Lys\, France
URL:https://www.fest.fr/e/2325823
UID:2325823-2@fest.fr
END:VEVENT
END:VCALENDAR
