BEGIN:VCALENDAR
CALSCALE:GREGORIAN
VERSION:2.0
METHOD:PUBLISH 
X-WR-CALNAME:
BEGIN:VEVENT
DTSTART;TZID=Europe/Paris:20260704T080000
DTEND;TZID=Europe/Paris:20260704T090000
SUMMARY:Marché aux produits locaux
CATEGORIE:Marchés, Foires et Salons
GEO:43.39701550000000;-1.45497060000000
LOCATION:Place Château Lota
Rue des vicomtes du Labourd\, 64480 Ustaritz\, France
URL:https://www.fest.fr/e/2325226
UID:2325226-1@fest.fr
END:VEVENT
END:VCALENDAR
