BEGIN:VCALENDAR
CALSCALE:GREGORIAN
VERSION:2.0
METHOD:PUBLISH 
X-WR-CALNAME:
BEGIN:VEVENT
DTSTART;TZID=Europe/Paris:20260422T160000
DTEND;TZID=Europe/Paris:20260422T170000
SUMMARY:Spectacle familial "Le Voyage de Chloé"
CATEGORIE:Spectacles et Théâtre
GEO:46.75065900000000;2.17636660000000
LOCATION:Place Anne Sylvestre\, 18160 Lignières\, France
URL:https://www.fest.fr/e/2325207
UID:2325207-1@fest.fr
END:VEVENT
END:VCALENDAR
