BEGIN:VCALENDAR
CALSCALE:GREGORIAN
VERSION:2.0
METHOD:PUBLISH 
X-WR-CALNAME:
BEGIN:VEVENT
DTSTART;TZID=Europe/Paris:20260220T170000
DTEND;TZID=Europe/Paris:20260220T180000
SUMMARY:RANDO RAQUETTES NOCTURNE DANS LE LUCHONNAIS
CATEGORIE:Randonnées et balades
GEO:42.78574000000000;0.59364000000000
LOCATION:66 Allées d'Étigny
BUREAU DES GUIDES\, 31110 Bagnères-de-Luchon\, France
URL:https://www.fest.fr/e/2324798
UID:2324798-1@fest.fr
END:VEVENT
END:VCALENDAR
