BEGIN:VCALENDAR
CALSCALE:GREGORIAN
VERSION:2.0
METHOD:PUBLISH 
X-WR-CALNAME:
BEGIN:VEVENT
DTSTART;TZID=Europe/Paris:20270228T190000
DTEND;TZID=Europe/Paris:20270228T200000
SUMMARY:Véronic Dicaire - Nouveau Spectacle - Tournée
CATEGORIE:Spectacles et théâtre
GEO:47.44324565414600;-0.47888686791300
LOCATION:Arena Loire Trélazé\, 131, rue Ferdinand Vest\, 49800 Trélazé\, France
URL:https://www.fest.fr/e/2324419
UID:2324419-1@fest.fr
END:VEVENT
END:VCALENDAR
