BEGIN:VCALENDAR
CALSCALE:GREGORIAN
VERSION:2.0
METHOD:PUBLISH 
X-WR-CALNAME:
BEGIN:VEVENT
DTSTART;TZID=Europe/Paris:20260813T210000
DTEND;TZID=Europe/Paris:20260813T220000
SUMMARY:Balade contée dans la Vallée des Traouïéro
CATEGORIE:Randonnées et balades
GEO:48.81310860000000;-3.48873160000000
LOCATION:GPS Lat. 48,813 Long. -3,489           .
Route de randreus\, 22700 Perros-Guirec\, France
URL:https://www.fest.fr/e/2324019
UID:2324019-1@fest.fr
END:VEVENT
END:VCALENDAR
