BEGIN:VCALENDAR
CALSCALE:GREGORIAN
VERSION:2.0
METHOD:PUBLISH 
X-WR-CALNAME:
BEGIN:VEVENT
DTSTART;TZID=Europe/Paris:20270425T150000
DTEND;TZID=Europe/Paris:20270425T160000
SUMMARY:Flashdance, The Musical - Tournée
CATEGORIE:Spectacles et théâtre
GEO:43.47942441561400;-1.55792713202200
LOCATION:Gare du Midi\, 23 avenue Maréchal Foch\, 64200 Biarritz\, France
URL:https://www.fest.fr/e/2322485
UID:2322485-1@fest.fr
END:VEVENT
END:VCALENDAR
