BEGIN:VCALENDAR
CALSCALE:GREGORIAN
VERSION:2.0
METHOD:PUBLISH 
X-WR-CALNAME:
BEGIN:VEVENT
DTSTART;TZID=Europe/Paris:20260819T140000
DTEND;TZID=Europe/Paris:20260819T150000
SUMMARY:Randonnée pédestre
CATEGORIE:Randonnées et balades
GEO:49.54695100000000;-1.57979100000000
LOCATION:13 Rue des Forges
Salle de la Viennerie\, 50700 Brix\, France
URL:https://www.fest.fr/e/2321042
UID:2321042-1@fest.fr
END:VEVENT
END:VCALENDAR
