BEGIN:VCALENDAR
CALSCALE:GREGORIAN
VERSION:2.0
METHOD:PUBLISH 
X-WR-CALNAME:
BEGIN:VEVENT
DTSTART;TZID=Europe/Paris:20261009T200000
DTEND;TZID=Europe/Paris:20261009T210000
SUMMARY:La Dame de Pierre - Tournée
CATEGORIE:Spectacles et théâtre
GEO:43.12814039158400;5.93150270689900
LOCATION:Zénith de Toulon\, Bd du Commandant Nicolas\, 83000 Toulon\, France
URL:https://www.fest.fr/e/2318956
UID:2318956-1@fest.fr
END:VEVENT
END:VCALENDAR
