BEGIN:VCALENDAR
CALSCALE:GREGORIAN
VERSION:2.0
METHOD:PUBLISH 
X-WR-CALNAME:
BEGIN:VEVENT
DTSTART;TZID=Europe/Paris:20270312T203000
DTEND;TZID=Europe/Paris:20270312T213000
SUMMARY:Timothée Curado - Présent ! Tournée
CATEGORIE:Spectacles et théâtre
GEO:45.80517430950000;1.33024503254600
LOCATION:Espace culturel du Crouzy\, Le Bourg\, 87220 Boisseuil\, France
URL:https://www.fest.fr/e/2317814
UID:2317814-1@fest.fr
END:VEVENT
END:VCALENDAR
