BEGIN:VCALENDAR
CALSCALE:GREGORIAN
VERSION:2.0
METHOD:PUBLISH 
X-WR-CALNAME:
BEGIN:VEVENT
DTSTART;TZID=Europe/Paris:20260726T213000
DTEND;TZID=Europe/Paris:20260726T223000
SUMMARY:Calogero - Un Soir Dans Les Théâtres
CATEGORIE:Concerts et musique
GEO:43.60169107016500;4.21142500853200
LOCATION:Arènes du Grau du Roi\, 3, route d'Aigues Mortes\, 30240 Le Grau-du-Roi\, France
URL:https://www.fest.fr/e/2316371
UID:2316371-1@fest.fr
END:VEVENT
END:VCALENDAR
