BEGIN:VCALENDAR
CALSCALE:GREGORIAN
VERSION:2.0
METHOD:PUBLISH 
X-WR-CALNAME:
BEGIN:VEVENT
DTSTART;TZID=Europe/Paris:20260422T200000
DTEND;TZID=Europe/Paris:20260422T210000
SUMMARY:On a Echangé nos Ados
CATEGORIE:Spectacles et théâtre
LOCATION:Comédie de Rennes\, 31 rue Xavier Grall\, 35700 RENNES\, France
URL:https://www.fest.fr/e/2315740
UID:2315740-1@fest.fr
END:VEVENT
BEGIN:VEVENT
DTSTART;TZID=Europe/Paris:20260530T170000
DTEND;TZID=Europe/Paris:20260530T180000
SUMMARY:On a Echangé nos Ados
CATEGORIE:Spectacles et théâtre
LOCATION:Comédie de Rennes\, 31 rue Xavier Grall\, 35700 RENNES\, France
URL:https://www.fest.fr/e/2315740
UID:2315740-2@fest.fr
END:VEVENT
BEGIN:VEVENT
DTSTART;TZID=Europe/Paris:20260613T170000
DTEND;TZID=Europe/Paris:20260613T180000
SUMMARY:On a Echangé nos Ados
CATEGORIE:Spectacles et théâtre
LOCATION:Comédie de Rennes\, 31 rue Xavier Grall\, 35700 RENNES\, France
URL:https://www.fest.fr/e/2315740
UID:2315740-3@fest.fr
END:VEVENT
BEGIN:VEVENT
DTSTART;TZID=Europe/Paris:20260715T200000
DTEND;TZID=Europe/Paris:20260715T210000
SUMMARY:On a Echangé nos Ados
CATEGORIE:Spectacles et théâtre
LOCATION:Comédie de Rennes\, 31 rue Xavier Grall\, 35700 RENNES\, France
URL:https://www.fest.fr/e/2315740
UID:2315740-4@fest.fr
END:VEVENT
BEGIN:VEVENT
DTSTART;TZID=Europe/Paris:20260811T200000
DTEND;TZID=Europe/Paris:20260811T210000
SUMMARY:On a Echangé nos Ados
CATEGORIE:Spectacles et théâtre
LOCATION:Comédie de Rennes\, 31 rue Xavier Grall\, 35700 RENNES\, France
URL:https://www.fest.fr/e/2315740
UID:2315740-5@fest.fr
END:VEVENT
BEGIN:VEVENT
DTSTART;TZID=Europe/Paris:20260919T170000
DTEND;TZID=Europe/Paris:20260919T180000
SUMMARY:On a Echangé nos Ados
CATEGORIE:Spectacles et théâtre
LOCATION:Comédie de Rennes\, 31 rue Xavier Grall\, 35700 RENNES\, France
URL:https://www.fest.fr/e/2315740
UID:2315740-6@fest.fr
END:VEVENT
BEGIN:VEVENT
DTSTART;TZID=Europe/Paris:20261128T170000
DTEND;TZID=Europe/Paris:20261128T180000
SUMMARY:On a Echangé nos Ados
CATEGORIE:Spectacles et théâtre
LOCATION:Comédie de Rennes\, 31 rue Xavier Grall\, 35700 RENNES\, France
URL:https://www.fest.fr/e/2315740
UID:2315740-7@fest.fr
END:VEVENT
BEGIN:VEVENT
DTSTART;TZID=Europe/Paris:20261231T180000
DTEND;TZID=Europe/Paris:20261231T190000
SUMMARY:On a Echangé nos Ados
CATEGORIE:Spectacles et théâtre
LOCATION:Comédie de Rennes\, 31 rue Xavier Grall\, 35700 RENNES\, France
URL:https://www.fest.fr/e/2315740
UID:2315740-8@fest.fr
END:VEVENT
BEGIN:VEVENT
DTSTART;TZID=Europe/Paris:20261231T193000
DTEND;TZID=Europe/Paris:20261231T203000
SUMMARY:On a Echangé nos Ados
CATEGORIE:Spectacles et théâtre
LOCATION:Comédie de Rennes\, 31 rue Xavier Grall\, 35700 RENNES\, France
URL:https://www.fest.fr/e/2315740
UID:2315740-9@fest.fr
END:VEVENT
END:VCALENDAR
