BEGIN:VCALENDAR
CALSCALE:GREGORIAN
VERSION:2.0
METHOD:PUBLISH 
X-WR-CALNAME:
BEGIN:VEVENT
DTSTART;TZID=Europe/Paris:20260905T140000
DTEND;TZID=Europe/Paris:20260905T150000
SUMMARY:Fête du BIO 12 ème édition
CATEGORIE:Fêtes et Animations
GEO:46.11654200000000;-0.35008700000000
LOCATION:Fête du Bio
La motte castrale du château de Chizé\, 79170 Chizé\, France
URL:https://www.fest.fr/e/2315722
UID:2315722-1@fest.fr
END:VEVENT
END:VCALENDAR
