BEGIN:VCALENDAR
CALSCALE:GREGORIAN
VERSION:2.0
METHOD:PUBLISH 
X-WR-CALNAME:
BEGIN:VEVENT
DTSTART;TZID=Europe/Paris:20260512T203000
DTEND;TZID=Europe/Paris:20260512T213000
SUMMARY:Audrey Baldassare - Hors Piste (Tournée)
CATEGORIE:Spectacles et théâtre
GEO:43.60277926728500;3.86817121525200
LOCATION:Kawa Théâtre\, 18, rue Fouques\, 34000 Montpellier\, France
URL:https://www.fest.fr/e/2314777
UID:2314777-1@fest.fr
END:VEVENT
END:VCALENDAR
