BEGIN:VCALENDAR
CALSCALE:GREGORIAN
VERSION:2.0
METHOD:PUBLISH 
X-WR-CALNAME:
BEGIN:VEVENT
DTSTART;TZID=Europe/Paris:20261213T180000
DTEND;TZID=Europe/Paris:20261213T190000
SUMMARY:Jérémy Charbonnel - Seul Tout - Tournée
CATEGORIE:Spectacles et théâtre
GEO:43.29446619408000;5.38330748718100
LOCATION:Espace Julien\, 39, Cours Julien\, 13006 Marseille 6e\, France
URL:https://www.fest.fr/e/2313730
UID:2313730-1@fest.fr
END:VEVENT
END:VCALENDAR
