BEGIN:VCALENDAR
CALSCALE:GREGORIAN
VERSION:2.0
METHOD:PUBLISH 
X-WR-CALNAME:
BEGIN:VEVENT
DTSTART;TZID=Europe/Paris:20260523T170000
DTEND;TZID=Europe/Paris:20260523T180000
SUMMARY:Guide ou fantôme, où se cache la vérité ?
CATEGORIE:Expositions, Visites et Découvertes
GEO:46.90315400000000;5.77336800000000
LOCATION:musée d'art, hôtel Sarret de Grozon\, 34 Pl. de la Liberté\, 39600 Arbois\, France
URL:https://www.fest.fr/e/2312249
UID:2312249-1@fest.fr
END:VEVENT
END:VCALENDAR
