BEGIN:VCALENDAR
CALSCALE:GREGORIAN
VERSION:2.0
METHOD:PUBLISH 
X-WR-CALNAME:
BEGIN:VEVENT
DTSTART;TZID=Europe/Paris:20260420T143000
DTEND;TZID=Europe/Paris:20260420T153000
SUMMARY:Marcel Entre en Scène
CATEGORIE:Spectacles et théâtre
GEO:47.67006851180000;-2.98561372783800
LOCATION:THEATRE A L'OUEST - AURAY\, 8 RUE LEVENANT\, 56400 Auray\, France
URL:https://www.fest.fr/e/2312104
UID:2312104-1@fest.fr
END:VEVENT
END:VCALENDAR
