BEGIN:VCALENDAR
CALSCALE:GREGORIAN
VERSION:2.0
METHOD:PUBLISH 
X-WR-CALNAME:
BEGIN:VEVENT
DTSTART;TZID=Europe/Paris:20260514T160000
DTEND;TZID=Europe/Paris:20260514T170000
SUMMARY:Supersonic's Block Party Festival
CATEGORIE:Concerts et musique
GEO:48.85032719999999;2.36970850000000
LOCATION:SUPERSONIC\, 9 Rue Biscornet\, 75012 Paris 12e\, France
URL:https://www.fest.fr/e/2311327
UID:2311327-1@fest.fr
END:VEVENT
BEGIN:VEVENT
DTSTART;TZID=Europe/Paris:20260515T160000
DTEND;TZID=Europe/Paris:20260515T170000
SUMMARY:Supersonic's Block Party Festival
CATEGORIE:Concerts et musique
GEO:48.85032719999999;2.36970850000000
LOCATION:SUPERSONIC\, 9 Rue Biscornet\, 75012 Paris 12e\, France
URL:https://www.fest.fr/e/2311327
UID:2311327-2@fest.fr
END:VEVENT
BEGIN:VEVENT
DTSTART;TZID=Europe/Paris:20260516T160000
DTEND;TZID=Europe/Paris:20260516T170000
SUMMARY:Supersonic's Block Party Festival
CATEGORIE:Concerts et musique
GEO:48.85032719999999;2.36970850000000
LOCATION:SUPERSONIC\, 9 Rue Biscornet\, 75012 Paris 12e\, France
URL:https://www.fest.fr/e/2311327
UID:2311327-3@fest.fr
END:VEVENT
END:VCALENDAR
