BEGIN:VCALENDAR
CALSCALE:GREGORIAN
VERSION:2.0
METHOD:PUBLISH 
X-WR-CALNAME:
BEGIN:VEVENT
DTSTART;TZID=Europe/Paris:20261008T203000
DTEND;TZID=Europe/Paris:20261008T213000
SUMMARY:The World Of Queen - L'Hommage à la Légende
CATEGORIE:Concerts et musique
GEO:50.74118180927300;2.26766087685100
LOCATION:Sceneo\, 2/4, Avenue Léon Blum\, 62219 Longuenesse\, France
URL:https://www.fest.fr/e/2310598
UID:2310598-1@fest.fr
END:VEVENT
END:VCALENDAR
