BEGIN:VCALENDAR
CALSCALE:GREGORIAN
VERSION:2.0
METHOD:PUBLISH 
X-WR-CALNAME:
BEGIN:VEVENT
DTSTART;TZID=Europe/Paris:20260724T123456
DTEND;TZID=Europe/Paris:20260724T133456
SUMMARY:Binic Folks Blues Festival 2026
CATEGORIE:Concerts et Musique
GEO:48.62773690000000;-2.83490090000000
LOCATION:Esplanade de la Banche
La Banche\, 22520 Binic-Étables-sur-Mer\, France
URL:https://www.fest.fr/e/2308808
UID:2308808-1@fest.fr
END:VEVENT
END:VCALENDAR
